BEGIN:VCALENDAR
VERSION:2.0
PRODID:icalendar-ruby
CALSCALE:GREGORIAN
METHOD:PUBLISH
BEGIN:VEVENT
DTSTAMP:20260424T102940Z
UID:93-275630@montereybaptist.church
DTSTART:20260425T200000Z
DTEND:20260425T220000Z
CLASS:PUBLIC
CREATED:20260413T211649
DESCRIPTION:
LAST-MODIFIED:20260413T211649
LOCATION:Fellowship Hall
SUMMARY:Women's Ministry
URL;VALUE=URI:https://www.montereybaptist.church/events/womens-ministry/202
 6-04-25
ATTACH;FILENAME=Untitled - 2026-04-02T131512.395.png;FMTTYPE=image/png:http
 s://dq5pwpg1q8ru0.cloudfront.net/2026/04/14/03/16/49/06c42f49-33e8-4950-9e
 84-c50892c63fc8/Untitled%20-%202026-04-02T131512.395.png
END:VEVENT
END:VCALENDAR
